BEGIN:VCALENDAR
VERSION:2.0
PRODID:-//Bay Veterans Foundation - ECPv6.15.17//NONSGML v1.0//EN
CALSCALE:GREGORIAN
METHOD:PUBLISH
X-ORIGINAL-URL:https://www.bayveterans.org
X-WR-CALDESC:Events for Bay Veterans Foundation
REFRESH-INTERVAL;VALUE=DURATION:PT1H
X-Robots-Tag:noindex
X-PUBLISHED-TTL:PT1H
BEGIN:VTIMEZONE
TZID:UTC
BEGIN:STANDARD
TZOFFSETFROM:+0000
TZOFFSETTO:+0000
TZNAME:UTC
DTSTART:20250101T000000
END:STANDARD
END:VTIMEZONE
BEGIN:VEVENT
DTSTART;VALUE=DATE:20260203
DTEND;VALUE=DATE:20290204
DTSTAMP:20260423T111146
CREATED:20260203T210707Z
LAST-MODIFIED:20260203T212129Z
UID:1406-1770076800-1864857599@www.bayveterans.org
SUMMARY:Soldier\, Songs and Voices - CLICK HERE
DESCRIPTION:
URL:https://www.bayveterans.org/event/2024-happy-birthday-usa-vets-3-2-3-2/
LOCATION:Bay Veterans Workshop and Learning Center\, 1009 N. Madison Ave\, Bay City\, 48708\, United States
ATTACH;FMTTYPE=image/jpeg:https://www.bayveterans.org/wp-content/uploads/2026/02/Soldiers-Songs-and-Voices_3-scaled.jpg
END:VEVENT
BEGIN:VEVENT
DTSTART;VALUE=DATE:20260223
DTEND;VALUE=DATE:20290224
DTSTAMP:20260423T111146
CREATED:20260223T185011Z
LAST-MODIFIED:20260316T162943Z
UID:1450-1771804800-1866585599@www.bayveterans.org
SUMMARY:Senior Vets Connect - CLICK HERE
DESCRIPTION:Senior Vets Connect\n			\n				\n				\n				\n				\n				\n 
URL:https://www.bayveterans.org/event/senior_vets_connect/
LOCATION:Bay Veterans Workshop and Learning Center\, 1009 N. Madison Ave\, Bay City\, 48708\, United States
ATTACH;FMTTYPE=image/jpeg:https://www.bayveterans.org/wp-content/uploads/2026/02/vet-volunteers-fixed.jpg
END:VEVENT
END:VCALENDAR